BEGIN:VCALENDAR
VERSION:2.0
PRODID:-//United Bowhunter&#039;s of Missouri - ECPv6.15.14//NONSGML v1.0//EN
CALSCALE:GREGORIAN
METHOD:PUBLISH
X-ORIGINAL-URL:https://unitedbowhunters.com
X-WR-CALDESC:Events for United Bowhunter&#039;s of Missouri
REFRESH-INTERVAL;VALUE=DURATION:PT1H
X-Robots-Tag:noindex
X-PUBLISHED-TTL:PT1H
BEGIN:VTIMEZONE
TZID:America/Chicago
BEGIN:DAYLIGHT
TZOFFSETFROM:-0600
TZOFFSETTO:-0500
TZNAME:CDT
DTSTART:20250309T080000
END:DAYLIGHT
BEGIN:STANDARD
TZOFFSETFROM:-0500
TZOFFSETTO:-0600
TZNAME:CST
DTSTART:20251102T070000
END:STANDARD
BEGIN:DAYLIGHT
TZOFFSETFROM:-0600
TZOFFSETTO:-0500
TZNAME:CDT
DTSTART:20260308T080000
END:DAYLIGHT
BEGIN:STANDARD
TZOFFSETFROM:-0500
TZOFFSETTO:-0600
TZNAME:CST
DTSTART:20261101T070000
END:STANDARD
BEGIN:DAYLIGHT
TZOFFSETFROM:-0600
TZOFFSETTO:-0500
TZNAME:CDT
DTSTART:20270314T080000
END:DAYLIGHT
BEGIN:STANDARD
TZOFFSETFROM:-0500
TZOFFSETTO:-0600
TZNAME:CST
DTSTART:20271107T070000
END:STANDARD
END:VTIMEZONE
BEGIN:VEVENT
DTSTART;TZID=America/Chicago:20260625T080000
DTEND;TZID=America/Chicago:20260628T120000
DTSTAMP:20260421T195747
CREATED:20260417T141107Z
LAST-MODIFIED:20260417T141541Z
UID:2188-1782374400-1782648000@unitedbowhunters.com
SUMMARY:2026 United Bowhunters of Missouri Rendezvous
DESCRIPTION:Come join us for a weekend of archery goodness! Pull your strings until your arms are tired and tell lies with the best of them. Friday we’ll be setting up for the first ever Missouri State Traditional Bowhunter Championship followed by Bill Brown’s famous fish fry. Saturday we’ll start the MSTB event at 8 AM. If competition is not your thing\, you can still sling arrows at Harry’s bottle launcher or practice up for the annual favorite 3-Person Skirmish tournament that afternoon. There will be two 3D courses to enjoy plus target butts to practice on. Saturday evening we’ll have a potluck dinner and can raffle drawings. And all this fun can be had for the low price of $25 with kids 12 and under being free. There is a separate charge of $10 (members) or $15 (non-members) to compete in the MSTB shoot. \n\n\n\nDownload Rendezvous Flyer \n\n\n\nDownload Rendezvous Schedule
URL:https://unitedbowhunters.com/event/2026-united-bowhunters-of-missouri-rendezvous/
CATEGORIES:Events
ATTACH;FMTTYPE=image/png:https://unitedbowhunters.com/wp-content/uploads/2026/04/UBMRendezvousBanner2026.png
END:VEVENT
END:VCALENDAR